BEGIN:VCALENDAR
VERSION:2.0
PRODID:-// - ECPv6.15.20//NONSGML v1.0//EN
CALSCALE:GREGORIAN
METHOD:PUBLISH
X-ORIGINAL-URL:https://sachiyonayuki.com
X-WR-CALDESC: のイベント
REFRESH-INTERVAL;VALUE=DURATION:PT1H
X-Robots-Tag:noindex
X-PUBLISHED-TTL:PT1H
BEGIN:VTIMEZONE
TZID:Asia/Tokyo
BEGIN:STANDARD
TZOFFSETFROM:+0900
TZOFFSETTO:+0900
TZNAME:JST
DTSTART:20170101T000000
END:STANDARD
END:VTIMEZONE
BEGIN:VEVENT
DTSTART;TZID=Asia/Tokyo:20250621T150000
DTEND;TZID=Asia/Tokyo:20250621T173000
DTSTAMP:20260423T172605
CREATED:20250227T231248Z
LAST-MODIFIED:20250227T231308Z
UID:4633-1750518000-1750527000@sachiyonayuki.com
SUMMARY:Jazz LiveTour2025 reunion -再会-＠仙台OLIVE
DESCRIPTION:2022年のヴァレンタインコンサートの心震える素晴らしい歌声から、もう3年。 \nやっとウィリアムス浩子さんとの共演が決まりました！！ \n最近CDアルバムをアナログレコードにするなどの精力的な活動が嬉しい浩子さん。 \n \n久々に東北に来てくださるということで、ピアノ北田了一さんとsax名雪祥代で再演できることを喜びに \n再会を意味する \nreunion \nというサブタイトルをつけてくださいました。 \n  \nツアー詳細– \n6/19(木)秋田Jazz&Live THE CAT WALK\n6/20(金)盛岡Cafe Bar West38\n6/21(土)仙台TFU cafeteria OLIVE\n6/22(日)伊豆沼カフェ・コロポックル \nなんと6/21は私誕生日なんで、喜びもひとしお😆 \n手帳に書き書きお願いしますね。
URL:https://sachiyonayuki.com/event/jazz-livetour2025olive/
LOCATION:Olive\, 仙台市榴岡2-5-26
CATEGORIES:ジャズライブ
ATTACH;FMTTYPE=image/png:https://sachiyonayuki.com/wp-content/uploads/2025/02/仙台.png
END:VEVENT
BEGIN:VEVENT
DTSTART;TZID=Asia/Tokyo:20200725T180000
DTEND;TZID=Asia/Tokyo:20200725T200000
DTSTAMP:20260423T172605
CREATED:20200721T232433Z
LAST-MODIFIED:20200721T232433Z
UID:1378-1595700000-1595707200@sachiyonayuki.com
SUMMARY:秩父英里×仙台ジャズギルド　Sound Map　←2020→　Sendai　オンラインライブ開催！！
DESCRIPTION:こんな時だからこそ、ジャズの新しい様式を仙台から発信します! \nプロジェクトの中心は秩父英里さん。\n仙台出身の作曲家・ピアニストです。\n彼女は東北大卒業後渡米、名門バークリー音楽大学を首席で卒業、去年から今年にかけて、アメリカのジャズ賞を立て続けに3つも受賞! 日本人初の偉業です。\n彼女は今、コロナに揺れる2020前後の仙台の音をテーマにジャズ組曲を作曲中です。 \n彼女のもとに仙台のトップミュージシャンやDJ、フィールドレコーディングアーティストが集合。\nジャズギルドでは曲が出来上がる過程を収録、メイキング映像を7月に順次HPで公開、集大成として、7月25日(土)に青葉の風テラスでライブを行い、全曲を披露します。 \n \n \nこのライブを\nオンラインでご覧いただけるんです～～！ \nhttps://soundmap2020sendai.peatix.com/view \nさすがに\nたくさんの方をお招きできない今のご時世。 \nぜひご自宅で\nお楽しみいただければと思います。 \n世界初演、仙台を感じる作曲の数々。\nどうぞご覧ください～～！！ \n仙台ジャズギルドHPはこちら\nメイキングムービーなどが楽しめますよ～～！！ \nhttps://jazz-guild.com/
URL:https://sachiyonayuki.com/event/%e7%a7%a9%e7%88%b6%e8%8b%b1%e9%87%8cx%e4%bb%99%e5%8f%b0%e3%82%b8%e3%83%a3%e3%82%ba%e3%82%ae%e3%83%ab%e3%83%89%e3%80%80sound-map%e3%80%80%e2%86%902020%e2%86%92%e3%80%80sendai%e3%80%80%e3%82%aa/
LOCATION:青葉の風テラス\, 仙台市青葉区青葉山2-1
CATEGORIES:ジャズライブ
ATTACH;FMTTYPE=image/jpeg:https://sachiyonayuki.com/wp-content/uploads/2020/07/jazz-guild-ちらし.jpg
END:VEVENT
BEGIN:VEVENT
DTSTART;TZID=Asia/Tokyo:20200321T150000
DTEND;TZID=Asia/Tokyo:20200321T180000
DTSTAMP:20260423T172605
CREATED:20200318T015324Z
LAST-MODIFIED:20200318T015955Z
UID:1324-1584802800-1584813600@sachiyonayuki.com
SUMMARY:2020年3月21日@room
DESCRIPTION:このもやもやした気持ちと雰囲気をふっとばせ～～！ \nそれには楽しいことをやるしかありません・ \nということで\n急きょ、仙台市春日町roomさんにて\nchargeフリーのライブを企画しました。\n（とはいえ、レジ前に籠を置きますので\n価格はお客様に決めていただく投げ銭スタイルになります） \nLua crescenteというグループでの演奏です。 \n癒されにきてください～～！！ \n2020年3月21日15:00~18:00\nその間、何度かステージをやります。 \nずっといてもよし\nほどほどに帰るもよし。 \n出入り自由です。\nいつ来てもいつ帰ってもよいです。 \nギター大垣涼太\nベース三ケ田伸也\nサックス名雪祥代
URL:https://sachiyonayuki.com/event/2020%e5%b9%b43%e6%9c%8821%e6%97%a5room/
LOCATION:room\, 仙台市青葉区春日町6-18
CATEGORIES:ジャズライブ
ATTACH;FMTTYPE=image/jpeg:https://sachiyonayuki.com/wp-content/uploads/2020/03/roomlive1_アートボード-1-1.jpg
END:VEVENT
BEGIN:VEVENT
DTSTART;TZID=Asia/Tokyo:20200202T123000
DTEND;TZID=Asia/Tokyo:20200202T130000
DTSTAMP:20260423T172605
CREATED:20200117T131209Z
LAST-MODIFIED:20200117T131316Z
UID:1209-1580646600-1580648400@sachiyonayuki.com
SUMMARY:2020.2.2 天文台祭り
DESCRIPTION:仙台市天文台にて\n星にまつわる曲の演奏をやります。 \n \n\nギター大垣涼太\nサックス名雪祥代\nhttp://www.sendai-astro.jp/matsuri.html
URL:https://sachiyonayuki.com/event/2020-2-2-%e5%a4%a9%e6%96%87%e5%8f%b0%e7%a5%ad%e3%82%8a/
LOCATION:仙台市天文台\, 仙台市青葉区錦ケ丘9丁目29-32
CATEGORIES:ジャズライブ
ATTACH;FMTTYPE=image/jpeg:https://sachiyonayuki.com/wp-content/uploads/2020/01/FF05BF35-BABD-48EA-935B-34961AD7543F.jpeg
END:VEVENT
BEGIN:VEVENT
DTSTART;TZID=Asia/Tokyo:20190929T153000
DTEND;TZID=Asia/Tokyo:20190929T173000
DTSTAMP:20260423T172605
CREATED:20190818T185326Z
LAST-MODIFIED:20190914T214013Z
UID:858-1569771000-1569778200@sachiyonayuki.com
SUMMARY:2nd Album「Picturesque」CD発売記念　東北ツアーin仙台
DESCRIPTION:9／29(日)　仙台公演　 \n開場15:00開演15:30 \n会場：仙台　ノーバルサロン（元ジャズミーブルースノラ）\n住所：仙台市青葉区錦町1-5-1　１F\nお問い合わせ　只野ピアノ工房　℡：0220-34-3719	 	  \nチケット前売り¥3\,500/当日￥4\,000(1Drink付+焼き菓子) \nPiano谷川賢作/Bass佐藤弘基/Drums橋本学/Perc齋藤寛 \n※お菓子作家 高木さんのクッキーとお楽しみくださいませ！ \nhttp://www.studio-fahren.com/
URL:https://sachiyonayuki.com/event/2nd-album%e3%80%8cpicturesque%e3%80%8dcd%e7%99%ba%e5%a3%b2%e8%a8%98%e5%bf%b5%e3%80%80%e6%9d%b1%e5%8c%97%e3%83%84%e3%82%a2%e3%83%bcin%e4%bb%99%e5%8f%b0/
CATEGORIES:ジャズライブ
ATTACH;FMTTYPE=image/jpeg:https://sachiyonayuki.com/wp-content/uploads/2019/08/67384339_1180506212158945_7411173133916307456_n.jpg
END:VEVENT
BEGIN:VEVENT
DTSTART;TZID=Asia/Tokyo:20190929T110000
DTEND;TZID=Asia/Tokyo:20190929T120000
DTSTAMP:20260423T172605
CREATED:20190829T111357Z
LAST-MODIFIED:20190914T214247Z
UID:911-1569754800-1569758400@sachiyonayuki.com
SUMMARY:〜子育てママに癒しを〜親子で楽しむジャズの会in仙台
DESCRIPTION:9／29 (日)\n開場10:30 開演11:00-12:00\n会場 ：仙台ノーバルサロン \n仙台市青葉区錦町1-5-1 \nチケット¥2\,500 （親子1組）追加料金　大人\2\,000　子供\500 (Drink+ミニお菓子付) \nPiano谷川賢作/Bass佐藤弘基/Drums橋本学/Perc 齋藤寛\nお問い合わせ：只野ピアノ工房0220-34-3719 \nスタジオファーレンの可愛いお菓子と\nお待ちしています！\nhttp://www.studio-fahren.com/
URL:https://sachiyonayuki.com/event/%e3%80%9c%e5%ad%90%e8%82%b2%e3%81%a6%e3%83%9e%e3%83%9e%e3%81%ab%e7%99%92%e3%81%97%e3%82%92%e3%80%9c%e8%a6%aa%e5%ad%90%e3%81%a7%e6%a5%bd%e3%81%97%e3%82%80%e3%82%b8%e3%83%a3%e3%82%ba%e3%81%ae%e4%bc%9ain/
CATEGORIES:ジャズライブ
ATTACH;FMTTYPE=image/jpeg:https://sachiyonayuki.com/wp-content/uploads/2019/07/A63243D8-4E30-4387-A047-CC2A83A68F30.jpeg
END:VEVENT
BEGIN:VEVENT
DTSTART;TZID=Asia/Tokyo:20190922T110000
DTEND;TZID=Asia/Tokyo:20190922T123000
DTSTAMP:20260423T172605
CREATED:20190721T045100Z
LAST-MODIFIED:20190914T214629Z
UID:752-1569150000-1569155400@sachiyonayuki.com
SUMMARY:～子育てママに癒しを～親子で楽しむジャズの会in大崎
DESCRIPTION:9／22 (日)\n開場10:30 開演11:00-12:00\n会場 ：醸室　寺子屋ホール(住所： 大崎市古川七日町３−１０　℡：0229-21-1020) \nチケット¥2\,500 （親子1組）追加料金　大人\2\,000　子供\500 (Drink+vin-ya jete ashigaruミニお菓子付) \nPiano谷川賢作/Bass小美濃悠太/Drums橋本学\nお問い合わせ：只野ピアノ工房0220-34-3719 \n※お母さんとお子さんがシェアして楽しめる可愛いドリンク、お菓子を準備しております！
URL:https://sachiyonayuki.com/event/%ef%bd%9e%e5%ad%90%e8%82%b2%e3%81%a6%e3%83%9e%e3%83%9e%e3%81%ab%e7%99%92%e3%81%97%e3%82%92%ef%bd%9e%e8%a6%aa%e5%ad%90%e3%81%a7%e6%a5%bd%e3%81%97%e3%82%80%e3%82%b8%e3%83%a3%e3%82%ba%e3%81%ae%e4%bc%9ain/
CATEGORIES:ジャズライブ
ATTACH;FMTTYPE=image/jpeg:https://sachiyonayuki.com/wp-content/uploads/2019/07/A63243D8-4E30-4387-A047-CC2A83A68F30.jpeg
END:VEVENT
BEGIN:VEVENT
DTSTART;TZID=Asia/Tokyo:20180826T160000
DTEND;TZID=Asia/Tokyo:20180826T193000
DTSTAMP:20260423T172605
CREATED:20180805T195104Z
LAST-MODIFIED:20180806T012448Z
UID:353-1535299200-1535311800@sachiyonayuki.com
SUMMARY:夏の終わりのノイジーダックライブ
DESCRIPTION:8/26(sun)16:00-19:30 \n若林美佐trio feat.名雪祥代 \n山形ノイジーダックhttp://noisy.jp/my-calendar/?mc_id=645 \n山形市七日町
URL:https://sachiyonayuki.com/event/%e3%83%8e%e3%82%a4%e3%82%b8%e3%83%bc%e3%83%80%e3%83%83%e3%82%af%e3%83%a9%e3%82%a4%e3%83%96/
ATTACH;FMTTYPE=image/jpeg:https://sachiyonayuki.com/wp-content/uploads/2018/08/img_1142.jpg
END:VEVENT
END:VCALENDAR